BEGIN:VCALENDAR
VERSION:2.0
PRODID:-//wp-events-plugin.com//7.2.2.1//EN
BEGIN:VEVENT
UID:1@stage.sipna.net
DTSTART;TZID=America/Los_Angeles:20230907T140000
DTEND;TZID=America/Los_Angeles:20230907T144500
DTSTAMP:20230829T002649Z
URL:https://stage.sipna.net/events/new-event/
SUMMARY:New Event
DESCRIPTION:This is an event
LOCATION:http://wp-events-plugin.com/documentation/getting-started-guide/?u
 tm_source=em&utm_medium=plugin&utm_content=installationlink&utm_campaign=p
 lugin_links
END:VEVENT
BEGIN:VTIMEZONE
TZID:America/Los_Angeles
X-LIC-LOCATION:America/Los_Angeles
BEGIN:DAYLIGHT
DTSTART:20230312T030000
TZOFFSETFROM:-0800
TZOFFSETTO:-0700
TZNAME:PDT
END:DAYLIGHT
END:VTIMEZONE
END:VCALENDAR